BEGIN:VCALENDAR
VERSION:2.0
PRODID:icalendar-ruby
CALSCALE:GREGORIAN
METHOD:PUBLISH
BEGIN:VEVENT
DTSTAMP:20260420T040238Z
UID:218-2168255@lcosjax.com
DTSTART:20260419T143000Z
DTEND:20260419T153000Z
CLASS:PUBLIC
CREATED:20260410T083851
DESCRIPTION:Please join us for service and welcome our special guest Rev. J
 effery Ingold who will be here to deliver the sermon for both services and
  to complete the installation of our new pastor\, Pastor Michael Lang duri
 ng the 10:30am service. 
LAST-MODIFIED:20260410T083851
LOCATION:Sanctuary
SUMMARY:Pastor Mike Lang Installation
URL;VALUE=URI:https://lcosjax.com/events/pastor-mike-lang-installation/2026
 -04-19
ATTACH;FILENAME=Installation.png;FMTTYPE=image/png:https://dq5pwpg1q8ru0.cl
 oudfront.net/2026/04/10/12/38/50/19a3c807-583a-4fd0-be28-743425822ed5/Inst
 allation.png
END:VEVENT
END:VCALENDAR
