BEGIN:VCALENDAR
VERSION:2.0
PRODID:icalendar-ruby
CALSCALE:GREGORIAN
METHOD:PUBLISH
BEGIN:VEVENT
DTSTAMP:20260422T051306Z
UID:126-2260973@lcosjax.com
DTSTART:20261101T133000Z
DTEND:20261101T141500Z
CLASS:PUBLIC
CREATED:20260421T195735
DESCRIPTION:
LAST-MODIFIED:20260421T195735
LOCATION:
SUMMARY:Condensed Service 
URL;VALUE=URI:https://lcosjax.com/events/condensed-service/2026-11-01
END:VEVENT
END:VCALENDAR
