BEGIN:VCALENDAR
VERSION:2.0
PRODID:icalendar-ruby
CALSCALE:GREGORIAN
METHOD:PUBLISH
BEGIN:VEVENT
DTSTAMP:20260422T033639Z
UID:126-2260972@lcosjax.com
DTSTART:20261025T123000Z
DTEND:20261025T131500Z
CLASS:PUBLIC
CREATED:20260421T195735
DESCRIPTION:
LAST-MODIFIED:20260421T195735
LOCATION:
SUMMARY:Condensed Service 
URL;VALUE=URI:https://lcosjax.com/events/condensed-service/2026-10-25
END:VEVENT
END:VCALENDAR
