BEGIN:VCALENDAR
VERSION:2.0
PRODID:icalendar-ruby
CALSCALE:GREGORIAN
METHOD:PUBLISH
BEGIN:VEVENT
DTSTAMP:20260421T223634Z
UID:126-2259654@lcosjax.com
DTSTART:20261004T123000Z
DTEND:20261004T131500Z
CLASS:PUBLIC
CREATED:20260421T171857
DESCRIPTION:
LAST-MODIFIED:20260421T171857
LOCATION:
SUMMARY:Condensed Service 
URL;VALUE=URI:https://lcosjax.com/events/condensed-service/2026-10-04
END:VEVENT
END:VCALENDAR
