BEGIN:VCALENDAR
VERSION:2.0
PRODID:icalendar-ruby
CALSCALE:GREGORIAN
METHOD:PUBLISH
BEGIN:VEVENT
DTSTAMP:20260421T205223Z
UID:126-2258338@lcosjax.com
DTSTART:20260927T123000Z
DTEND:20260927T131500Z
CLASS:PUBLIC
CREATED:20260421T144214
DESCRIPTION:
LAST-MODIFIED:20260421T144214
LOCATION:
SUMMARY:Condensed Service 
URL;VALUE=URI:https://lcosjax.com/events/condensed-service/2026-09-27
END:VEVENT
END:VCALENDAR
