BEGIN:VCALENDAR
VERSION:2.0
PRODID:icalendar-ruby
CALSCALE:GREGORIAN
METHOD:PUBLISH
BEGIN:VEVENT
DTSTAMP:20260421T170817Z
UID:126-2257021@lcosjax.com
DTSTART:20260913T123000Z
DTEND:20260913T131500Z
CLASS:PUBLIC
CREATED:20260421T120344
DESCRIPTION:
LAST-MODIFIED:20260421T120344
LOCATION:
SUMMARY:Condensed Service 
URL;VALUE=URI:https://lcosjax.com/events/condensed-service/2026-09-13
END:VEVENT
END:VCALENDAR
