BEGIN:VCALENDAR
VERSION:2.0
PRODID:icalendar-ruby
CALSCALE:GREGORIAN
METHOD:PUBLISH
BEGIN:VEVENT
DTSTAMP:20260421T152243Z
UID:126-2255705@lcosjax.com
DTSTART:20260906T123000Z
DTEND:20260906T131500Z
CLASS:PUBLIC
CREATED:20260421T092624
DESCRIPTION:
LAST-MODIFIED:20260421T092624
LOCATION:
SUMMARY:Condensed Service 
URL;VALUE=URI:https://lcosjax.com/events/condensed-service/2026-09-06
END:VEVENT
END:VCALENDAR
