BEGIN:VCALENDAR
VERSION:2.0
PRODID:icalendar-ruby
CALSCALE:GREGORIAN
METHOD:PUBLISH
BEGIN:VEVENT
DTSTAMP:20260421T115836Z
UID:126-2254388@lcosjax.com
DTSTART:20260823T123000Z
DTEND:20260823T131500Z
CLASS:PUBLIC
CREATED:20260421T065029
DESCRIPTION:
LAST-MODIFIED:20260421T065029
LOCATION:
SUMMARY:Condensed Service 
URL;VALUE=URI:https://lcosjax.com/events/condensed-service/2026-08-23
END:VEVENT
END:VCALENDAR
