BEGIN:VCALENDAR
VERSION:2.0
PRODID:icalendar-ruby
CALSCALE:GREGORIAN
METHOD:PUBLISH
BEGIN:VEVENT
DTSTAMP:20260421T095139Z
UID:126-2253072@lcosjax.com
DTSTART:20260816T123000Z
DTEND:20260816T131500Z
CLASS:PUBLIC
CREATED:20260420T194431
DESCRIPTION:
LAST-MODIFIED:20260420T194431
LOCATION:
SUMMARY:Condensed Service 
URL;VALUE=URI:https://lcosjax.com/events/condensed-service/2026-08-16
END:VEVENT
END:VCALENDAR
