BEGIN:VCALENDAR
VERSION:2.0
PRODID:icalendar-ruby
CALSCALE:GREGORIAN
METHOD:PUBLISH
BEGIN:VEVENT
DTSTAMP:20260421T074406Z
UID:126-2253071@lcosjax.com
DTSTART:20260809T123000Z
DTEND:20260809T131500Z
CLASS:PUBLIC
CREATED:20260420T194431
DESCRIPTION:
LAST-MODIFIED:20260420T194431
LOCATION:
SUMMARY:Condensed Service 
URL;VALUE=URI:https://lcosjax.com/events/condensed-service/2026-08-09
END:VEVENT
END:VCALENDAR
