BEGIN:VCALENDAR
VERSION:2.0
PRODID:icalendar-ruby
CALSCALE:GREGORIAN
METHOD:PUBLISH
BEGIN:VEVENT
DTSTAMP:20260421T002856Z
UID:126-2253068@lcosjax.com
DTSTART:20260719T123000Z
DTEND:20260719T131500Z
CLASS:PUBLIC
CREATED:20260420T194431
DESCRIPTION:
LAST-MODIFIED:20260420T194431
LOCATION:
SUMMARY:Condensed Service 
URL;VALUE=URI:https://lcosjax.com/events/condensed-service/2026-07-19
END:VEVENT
END:VCALENDAR
