BEGIN:VCALENDAR
VERSION:2.0
PRODID:icalendar-ruby
CALSCALE:GREGORIAN
METHOD:PUBLISH
BEGIN:VEVENT
DTSTAMP:20260420T222412Z
UID:126-2251752@lcosjax.com
DTSTART:20260712T123000Z
DTEND:20260712T131500Z
CLASS:PUBLIC
CREATED:20260420T170929
DESCRIPTION:
LAST-MODIFIED:20260420T170929
LOCATION:
SUMMARY:Condensed Service 
URL;VALUE=URI:https://lcosjax.com/events/condensed-service/2026-07-12
END:VEVENT
END:VCALENDAR
