BEGIN:VCALENDAR
VERSION:2.0
PRODID:icalendar-ruby
CALSCALE:GREGORIAN
METHOD:PUBLISH
BEGIN:VEVENT
DTSTAMP:20260420T185235Z
UID:126-2250435@lcosjax.com
DTSTART:20260628T123000Z
DTEND:20260628T131500Z
CLASS:PUBLIC
CREATED:20260420T143325
DESCRIPTION:
LAST-MODIFIED:20260420T143325
LOCATION:
SUMMARY:Condensed Service 
URL;VALUE=URI:https://lcosjax.com/events/condensed-service/2026-06-28
END:VEVENT
END:VCALENDAR
