BEGIN:VCALENDAR
VERSION:2.0
PRODID:icalendar-ruby
CALSCALE:GREGORIAN
METHOD:PUBLISH
BEGIN:VEVENT
DTSTAMP:20260420T171702Z
UID:126-2249119@lcosjax.com
DTSTART:20260621T123000Z
DTEND:20260621T131500Z
CLASS:PUBLIC
CREATED:20260420T115910
DESCRIPTION:
LAST-MODIFIED:20260420T115910
LOCATION:
SUMMARY:Condensed Service 
URL;VALUE=URI:https://lcosjax.com/events/condensed-service/2026-06-21
END:VEVENT
END:VCALENDAR
