BEGIN:VCALENDAR
VERSION:2.0
PRODID:icalendar-ruby
CALSCALE:GREGORIAN
METHOD:PUBLISH
BEGIN:VEVENT
DTSTAMP:20260420T135402Z
UID:126-2247802@lcosjax.com
DTSTART:20260607T123000Z
DTEND:20260607T131500Z
CLASS:PUBLIC
CREATED:20260420T092515
DESCRIPTION:
LAST-MODIFIED:20260420T092515
LOCATION:
SUMMARY:Condensed Service 
URL;VALUE=URI:https://lcosjax.com/events/condensed-service/2026-06-07
END:VEVENT
END:VCALENDAR
