BEGIN:VCALENDAR
VERSION:2.0
PRODID:icalendar-ruby
CALSCALE:GREGORIAN
METHOD:PUBLISH
BEGIN:VEVENT
DTSTAMP:20260420T121918Z
UID:126-2246487@lcosjax.com
DTSTART:20260531T123000Z
DTEND:20260531T131500Z
CLASS:PUBLIC
CREATED:20260420T064936
DESCRIPTION:
LAST-MODIFIED:20260420T064936
LOCATION:
SUMMARY:Condensed Service 
URL;VALUE=URI:https://lcosjax.com/events/condensed-service/2026-05-31
END:VEVENT
END:VCALENDAR
