BEGIN:VCALENDAR
VERSION:2.0
PRODID:icalendar-ruby
CALSCALE:GREGORIAN
METHOD:PUBLISH
BEGIN:VEVENT
DTSTAMP:20260420T091313Z
UID:126-2245171@lcosjax.com
DTSTART:20260517T123000Z
DTEND:20260517T131500Z
CLASS:PUBLIC
CREATED:20260420T013640
DESCRIPTION:
LAST-MODIFIED:20260420T013640
LOCATION:
SUMMARY:Condensed Service 
URL;VALUE=URI:https://lcosjax.com/events/condensed-service/2026-05-17
END:VEVENT
END:VCALENDAR
