BEGIN:VCALENDAR
VERSION:2.0
PRODID:icalendar-ruby
CALSCALE:GREGORIAN
METHOD:PUBLISH
BEGIN:VEVENT
DTSTAMP:20260420T053550Z
UID:126-2243855@lcosjax.com
DTSTART:20260503T123000Z
DTEND:20260503T131500Z
CLASS:PUBLIC
CREATED:20260419T215937
DESCRIPTION:
LAST-MODIFIED:20260419T215937
LOCATION:
SUMMARY:Condensed Service 
URL;VALUE=URI:https://lcosjax.com/events/condensed-service/2026-05-03
END:VEVENT
END:VCALENDAR
