BEGIN:VCALENDAR
VERSION:2.0
PRODID:icalendar-ruby
CALSCALE:GREGORIAN
METHOD:PUBLISH
BEGIN:VEVENT
DTSTAMP:20260420T040238Z
UID:126-2243854@lcosjax.com
DTSTART:20260426T123000Z
DTEND:20260426T131500Z
CLASS:PUBLIC
CREATED:20260419T215937
DESCRIPTION:
LAST-MODIFIED:20260419T215937
LOCATION:
SUMMARY:Condensed Service 
URL;VALUE=URI:https://lcosjax.com/events/condensed-service/2026-04-26
END:VEVENT
END:VCALENDAR
